BEGIN:VCALENDAR
VERSION:2.0
PRODID:-//Tukios.com/
BEGIN:VEVENT
UID:c79ab479-0e24-42a3-b111-828617d7f42d@www.egcfuneralhome.com
DTSTAMP:20260421T003733Z
DTSTART:20260421
SUMMARY:Interment
DESCRIPTION:Private Family Service
URL:https://www.egcfuneralhome.com/obituaries/gene-brill
LOCATION: 12950 State Highway Ad  Cabool MO 65689
GEO:37.113254;-92.1063683
END:VEVENT
END:VCALENDAR